BEGIN:VCALENDAR
VERSION:2.0
PRODID:-// - ECPv6.15.15//NONSGML v1.0//EN
CALSCALE:GREGORIAN
METHOD:PUBLISH
X-ORIGINAL-URL:https://www.female-gamers.nl
X-WR-CALDESC:Events for 
REFRESH-INTERVAL;VALUE=DURATION:PT1H
X-Robots-Tag:noindex
X-PUBLISHED-TTL:PT1H
BEGIN:VTIMEZONE
TZID:Europe/Amsterdam
BEGIN:DAYLIGHT
TZOFFSETFROM:+0100
TZOFFSETTO:+0200
TZNAME:CEST
DTSTART:20240331T010000
END:DAYLIGHT
BEGIN:STANDARD
TZOFFSETFROM:+0200
TZOFFSETTO:+0100
TZNAME:CET
DTSTART:20241027T010000
END:STANDARD
BEGIN:DAYLIGHT
TZOFFSETFROM:+0100
TZOFFSETTO:+0200
TZNAME:CEST
DTSTART:20250330T010000
END:DAYLIGHT
BEGIN:STANDARD
TZOFFSETFROM:+0200
TZOFFSETTO:+0100
TZNAME:CET
DTSTART:20251026T010000
END:STANDARD
BEGIN:DAYLIGHT
TZOFFSETFROM:+0100
TZOFFSETTO:+0200
TZNAME:CEST
DTSTART:20260329T010000
END:DAYLIGHT
BEGIN:STANDARD
TZOFFSETFROM:+0200
TZOFFSETTO:+0100
TZNAME:CET
DTSTART:20261025T010000
END:STANDARD
END:VTIMEZONE
BEGIN:VEVENT
DTSTART;TZID=Europe/Amsterdam:20250202T100000
DTEND;TZID=Europe/Amsterdam:20250202T160000
DTSTAMP:20260421T144817
CREATED:20240821T122631Z
LAST-MODIFIED:20241120T125821Z
UID:97989-1738490400-1738512000@www.female-gamers.nl
SUMMARY:TCG Expo
DESCRIPTION:Bij Van der Valk Lelystad vindt op 02 Februari 2025 de TCG Expo plaats. Hier kan je op zoek naar jouw favoriete Pokemon\, maar ook bijvoorbeeld Disney\, One Piece en DragonBall kaarten. Ook is het mogelijk om hier jouw kaarten op te sturen voor PSA\, CGC of Beckett Grading. En natuurlijk zijn er ook genoeg accessoires en andere leuke collector items aanwezig!
URL:https://www.female-gamers.nl/event/tcg-expo/
LOCATION:Van der Valk Lelystad\, Larserplein 1\, Lelystad\, Lelystad\, 8226 PB\, Netherlands
CATEGORIES:Beurs
END:VEVENT
END:VCALENDAR