BEGIN:VCALENDAR
VERSION:2.0
PRODID:-// - ECPv6.15.15//NONSGML v1.0//EN
CALSCALE:GREGORIAN
METHOD:PUBLISH
X-ORIGINAL-URL:https://www.female-gamers.nl
X-WR-CALDESC:Events for 
REFRESH-INTERVAL;VALUE=DURATION:PT1H
X-Robots-Tag:noindex
X-PUBLISHED-TTL:PT1H
BEGIN:VTIMEZONE
TZID:Europe/Amsterdam
BEGIN:DAYLIGHT
TZOFFSETFROM:+0100
TZOFFSETTO:+0200
TZNAME:CEST
DTSTART:20230326T010000
END:DAYLIGHT
BEGIN:STANDARD
TZOFFSETFROM:+0200
TZOFFSETTO:+0100
TZNAME:CET
DTSTART:20231029T010000
END:STANDARD
BEGIN:DAYLIGHT
TZOFFSETFROM:+0100
TZOFFSETTO:+0200
TZNAME:CEST
DTSTART:20240331T010000
END:DAYLIGHT
BEGIN:STANDARD
TZOFFSETFROM:+0200
TZOFFSETTO:+0100
TZNAME:CET
DTSTART:20241027T010000
END:STANDARD
BEGIN:DAYLIGHT
TZOFFSETFROM:+0100
TZOFFSETTO:+0200
TZNAME:CEST
DTSTART:20250330T010000
END:DAYLIGHT
BEGIN:STANDARD
TZOFFSETFROM:+0200
TZOFFSETTO:+0100
TZNAME:CET
DTSTART:20251026T010000
END:STANDARD
END:VTIMEZONE
BEGIN:VEVENT
DTSTART;TZID=Europe/Amsterdam:20241116T110000
DTEND;TZID=Europe/Amsterdam:20241116T160000
DTSTAMP:20260421T173856
CREATED:20240821T113507Z
LAST-MODIFIED:20241120T162934Z
UID:97969-1731754800-1731772800@www.female-gamers.nl
SUMMARY:Pokéview beurs
DESCRIPTION:Pokéview: De plek waar de Pokémon liefhebber samenkomt om hun passie te delen. Kom eens langs op de beurs om een geweldige dag vol positiviteit te ervaren. Op de beurs zijn meestal exclusieve deals te vinden\, waardoor jij er met de beste deal vandoor gaat.
URL:https://www.female-gamers.nl/event/pokeview-beurs-2/
LOCATION:Emergohal\, Langs de Akker 3\, Amstelveen\, Amstelveen\, 1186 DA\, Netherlands
CATEGORIES:Beurs
END:VEVENT
END:VCALENDAR