BEGIN:VCALENDAR
VERSION:2.0
PRODID:-// - ECPv6.15.15//NONSGML v1.0//EN
CALSCALE:GREGORIAN
METHOD:PUBLISH
X-ORIGINAL-URL:https://www.female-gamers.nl
X-WR-CALDESC:Events for 
REFRESH-INTERVAL;VALUE=DURATION:PT1H
X-Robots-Tag:noindex
X-PUBLISHED-TTL:PT1H
BEGIN:VTIMEZONE
TZID:Europe/Amsterdam
BEGIN:DAYLIGHT
TZOFFSETFROM:+0100
TZOFFSETTO:+0200
TZNAME:CEST
DTSTART:20230326T010000
END:DAYLIGHT
BEGIN:STANDARD
TZOFFSETFROM:+0200
TZOFFSETTO:+0100
TZNAME:CET
DTSTART:20231029T010000
END:STANDARD
BEGIN:DAYLIGHT
TZOFFSETFROM:+0100
TZOFFSETTO:+0200
TZNAME:CEST
DTSTART:20240331T010000
END:DAYLIGHT
BEGIN:STANDARD
TZOFFSETFROM:+0200
TZOFFSETTO:+0100
TZNAME:CET
DTSTART:20241027T010000
END:STANDARD
BEGIN:DAYLIGHT
TZOFFSETFROM:+0100
TZOFFSETTO:+0200
TZNAME:CEST
DTSTART:20250330T010000
END:DAYLIGHT
BEGIN:STANDARD
TZOFFSETFROM:+0200
TZOFFSETTO:+0100
TZNAME:CET
DTSTART:20251026T010000
END:STANDARD
END:VTIMEZONE
BEGIN:VEVENT
DTSTART;TZID=Europe/Amsterdam:20240921T080000
DTEND;TZID=Europe/Amsterdam:20240922T170000
DTSTAMP:20260421T221243
CREATED:20240821T110904Z
LAST-MODIFIED:20240821T110904Z
UID:97963-1726905600-1727024400@www.female-gamers.nl
SUMMARY:PokéGarden
DESCRIPTION:De tweede editie van PokéGarden duurt maar liefst 2 dagen! Ook nu kan je weer een uitgebreid aanbod aan Pokémon gerelateerde artikelen verwachten bij onze 90+ standhouders. Er zal een vergroot aantal tafels aanwezig zijn in de ruil-area om je collectie uit te breiden én waar je nieuwe mensen (of oude bekenden) kunt ontmoeten. Verder zal er weer een win-actie zijn waar iedere bezoeker gratis aan deelneemt via zijn ticket. Beide dagen zullen er 6 live-trekkingen zijn\, houd het podium dus in de gaten! Verder zullen we in de komende weken meer activiteiten bekendmaken. Aanvullende informatie over alle activiteiten is binnenkort te vinden op een aparte pagina op de PokéGarden website. Vergeet deze dus niet af en toe te chechen.
URL:https://www.female-gamers.nl/event/pokegarden/
LOCATION:Jaarbeurs Utrecht\, Jaarbeursplein 6\, Utrecht\, 3521 AL
END:VEVENT
END:VCALENDAR