BEGIN:VCALENDAR
VERSION:2.0
PRODID:-// - ECPv6.15.15//NONSGML v1.0//EN
CALSCALE:GREGORIAN
METHOD:PUBLISH
X-ORIGINAL-URL:https://www.female-gamers.nl
X-WR-CALDESC:Events for 
REFRESH-INTERVAL;VALUE=DURATION:PT1H
X-Robots-Tag:noindex
X-PUBLISHED-TTL:PT1H
BEGIN:VTIMEZONE
TZID:Europe/Amsterdam
BEGIN:DAYLIGHT
TZOFFSETFROM:+0100
TZOFFSETTO:+0200
TZNAME:CEST
DTSTART:20220327T010000
END:DAYLIGHT
BEGIN:STANDARD
TZOFFSETFROM:+0200
TZOFFSETTO:+0100
TZNAME:CET
DTSTART:20221030T010000
END:STANDARD
BEGIN:DAYLIGHT
TZOFFSETFROM:+0100
TZOFFSETTO:+0200
TZNAME:CEST
DTSTART:20230326T010000
END:DAYLIGHT
BEGIN:STANDARD
TZOFFSETFROM:+0200
TZOFFSETTO:+0100
TZNAME:CET
DTSTART:20231029T010000
END:STANDARD
BEGIN:DAYLIGHT
TZOFFSETFROM:+0100
TZOFFSETTO:+0200
TZNAME:CEST
DTSTART:20240331T010000
END:DAYLIGHT
BEGIN:STANDARD
TZOFFSETFROM:+0200
TZOFFSETTO:+0100
TZNAME:CET
DTSTART:20241027T010000
END:STANDARD
END:VTIMEZONE
BEGIN:VEVENT
DTSTART;TZID=Europe/Amsterdam:20230527T100000
DTEND;TZID=Europe/Amsterdam:20230527T200000
DTSTAMP:20260423T134045
CREATED:20230504T110849Z
LAST-MODIFIED:20230504T110849Z
UID:93965-1685181600-1685217600@www.female-gamers.nl
SUMMARY:Echo Base Charity Con
DESCRIPTION:Er is tijdens Echo Base Charity Con van alles te beleven. Zo zijn er verschillende panels van bijvoorbeeld De Star Wars Podcast\, de Scruffy Looking Nerf Herders (met Ruben van der Meer\, Horace Cohen en Arie Koomen ) en Dutch Garrison. En voor wie het heeft onthouden\, Return of the Jedi bestaat dit jaar 40 jaar en wordt daarom in bijvoorbeeld de US en UK in verschillende bioscopen gedraaid. Voor iedereen in Nederland moeten ze zich melden bij Echo Base Con\, want daar wordt de film eenmalig weer vertoond op het grote scherm! (Mochten jullie ons zoeken\, dan zitten dus daar). Over deze speciale vertoning later meer.\n\n \n\nZoals een echte conventie zijn er ook bekende gasten. Voor deze editie staan Brendan Wayne (Din Djarin naast Pedro Pascal en Lateef Crowder)\, Denis Lawson (Wedge Antilles\, Return of the Jedi)\, Mike Quinn (Nien Nunb\, Return of the Jedi)\, Duncan Pow (Sergeant Ruescott Melshi uit Andor en Rogue One)\, Dermot Crowley (Crix Madine\, Return of the Jedi)\, Caroline Blakiston (Mon Mothma\, Return of the Jedi) en Bonnie Piesse (Beru Whitesun Lars\, Attack of the Clones en Revenge of the Sith). Met al deze gasten kun je op de foto en kun je een handtekening aan ze vragen (voor een vergoeding natuurlijk).\n\n\n\nNatuurlijk zijn er ook vele stands om toffe Star Wars items te kopen\, zoals t-shirts\, tassen of een vette helm. Maar er staan ook verkopers die heuse verzamelobjecten verkopen\, dus zorg maar dat je wat spaarcenten meeneemt zodat je je collectie kunt voltooien. En als je dan toch voor cosplayitems gaat\, check dan gelijk even alle fan-groepen en cosplay-groepen\, want wie weet hebben ze nog goede tips of kun je je bij ze aansluiten. Er zullen ook verschillende photowalls zijn\, zodat je in cosplay (of je gewone kloffie) toffe foto’s kunt maken.\n\n \n\nWij van Female-Gamers zijn er in ieder geval bij om verslag te doen van dit heerlijke Star Wars evenement. En laten we ook niet vergeten dat het in het teken staat van het goede doel\, Make-A-Wish Nederland. Dus mocht je aanwezig zijn\, lekker geld uitgeven zodat alle winst naar het goede doel kan gaan! Mocht je nog geen tickets hebben\, dan kun je die kopen op de officiële website. Daar vind je ook direct al het laatste nieuws en informatie over het evenement. May the force be with you and we look forward to seeing you in a galaxy far\, far away…
URL:https://www.female-gamers.nl/event/echo-base-charity-con/
LOCATION:Pathé Amsterdam Noord\, Buikslotermeerplein 2003\, Amsterdam\, 1025 XL\, Netherlands
ATTACH;FMTTYPE=image/png:https://www.female-gamers.nl/wp-content/uploads/2023/05/Echo-Base-Charity-Con-Logo-2022-KLEUR.png
END:VEVENT
END:VCALENDAR