BEGIN:VCALENDAR
VERSION:2.0
PRODID:-// - ECPv6.15.15//NONSGML v1.0//EN
CALSCALE:GREGORIAN
METHOD:PUBLISH
X-ORIGINAL-URL:https://www.female-gamers.nl
X-WR-CALDESC:Events for 
REFRESH-INTERVAL;VALUE=DURATION:PT1H
X-Robots-Tag:noindex
X-PUBLISHED-TTL:PT1H
BEGIN:VTIMEZONE
TZID:Europe/Amsterdam
BEGIN:DAYLIGHT
TZOFFSETFROM:+0100
TZOFFSETTO:+0200
TZNAME:CEST
DTSTART:20220327T010000
END:DAYLIGHT
BEGIN:STANDARD
TZOFFSETFROM:+0200
TZOFFSETTO:+0100
TZNAME:CET
DTSTART:20221030T010000
END:STANDARD
BEGIN:DAYLIGHT
TZOFFSETFROM:+0100
TZOFFSETTO:+0200
TZNAME:CEST
DTSTART:20230326T010000
END:DAYLIGHT
BEGIN:STANDARD
TZOFFSETFROM:+0200
TZOFFSETTO:+0100
TZNAME:CET
DTSTART:20231029T010000
END:STANDARD
BEGIN:DAYLIGHT
TZOFFSETFROM:+0100
TZOFFSETTO:+0200
TZNAME:CEST
DTSTART:20240331T010000
END:DAYLIGHT
BEGIN:STANDARD
TZOFFSETFROM:+0200
TZOFFSETTO:+0100
TZNAME:CET
DTSTART:20241027T010000
END:STANDARD
END:VTIMEZONE
BEGIN:VEVENT
DTSTART;TZID=Europe/Amsterdam:20230318T100000
DTEND;TZID=Europe/Amsterdam:20230319T180000
DTSTAMP:20260423T162956
CREATED:20230308T091342Z
LAST-MODIFIED:20230308T091342Z
UID:93532-1679133600-1679248800@www.female-gamers.nl
SUMMARY:Zuiderspel Eindhoven
DESCRIPTION:Zuiderspel is dit jaar groter dan ooit. Voor het eerst openen zij een 3e hal\, zodat er meer nieuwe namen bij kunnen en oude bekenden een grotere stand kunnen krijgen. Zo zullen Asmodee Nederland\, TCG Boardgames\, Amsterdam Board Game Design en White Goblin games aanwezig zijn. Naast veel nieuwe ruimte zijn er ook weer toernooien voor Menhirs in de Mist\, het NK Carcassonne en het Operation Cockoo Toernooi. \nZuiderspel is een unieke kans om samen met familie en vrienden een dag lang te genieten van meer dan honderd nieuwe bord-\, kaart-\, dobbel- en andere gezelschapsspellen. Vele spellenuitgevers\, distributeurs\, winkels en verenigingen zullen met hun nieuwste spellen op Zuiderspel aanwezig zijn. Probeer de spellen uit tijdens deze gezellige beurs en profiteer van scherpe beursaanbiedingen bij de verkoopstands. (bron: zuiderspel.nl) \nKinderen tot 10 jaar: Gratis!\nDagkaart: €7\,- (vanaf 10 jaar)\nWeekendkaart: €11\,-
URL:https://www.female-gamers.nl/event/zuiderspel-eindhoven/
LOCATION:NH Conference Centre Koningshof\, Locht 117\, Veldhoven\, 5504 RM\, Netherlands
ATTACH;FMTTYPE=image/jpeg:https://www.female-gamers.nl/wp-content/uploads/2023/03/Zuiderspel_Banner.jpg
END:VEVENT
END:VCALENDAR